BEGIN:VCALENDAR
VERSION:2.0
PRODID:-//urwahl3000//gruene-erfurt.de//DE
CALSCALE:GREGORIAN
BEGIN:VEVENT
DTSTART:20250604T153000
DTEND:20250604T173000
LOCATION:Bahnhofsvorplatz Erfurt
DTSTAMP:20250604T153000
SUMMARY:Aktion Hitzeschutz
URL;VALUE=URI:https://gruene-erfurt.de/termin/aktion-hitzeschutz/
DESCRIPTION:Gemeinsame Aktion mit dem Landesverband für mehr Hitzeschutz. Infos folgen!
UID:20250604T153000-20250604T153000-20250604T173000
END:VEVENT
END:VCALENDAR