BEGIN:VCALENDAR
VERSION:2.0
PRODID:-//urwahl3000//gruene-erfurt.de//DE
CALSCALE:GREGORIAN
BEGIN:VEVENT
DTSTART:20241115T160000
DTEND:20241117T160000
LOCATION: Wiesbaden
DTSTAMP:20241115T160000
SUMMARY:Bundesdelegiertenkonferenz
URL;VALUE=URI:https://gruene-erfurt.de/termin/bundesdelegiertenkonferenz/
DESCRIPTION:Unser Bundesparteitag in Wiesbaden.
Alle Infos dazu findest du hier: <a href="https://www.gruene.de/artikel/parteitag-2024">https://www.gruene.de/artikel/parteitag-2024 </a>
UID:20241115T160000-20241115T160000-20241117T160000
END:VEVENT
END:VCALENDAR