BEGIN:VCALENDAR
VERSION:2.0
PRODID:-//urwahl3000//gruene-erfurt.de//DE
CALSCALE:GREGORIAN
BEGIN:VEVENT
DTSTART:20230501T130000
DTEND:20230501T190000
LOCATION:Anger Erfurt
DTSTAMP:20230501T130000
SUMMARY:Demo
URL;VALUE=URI:https://gruene-erfurt.de/termin/demo/
UID:20230501T130000-20230501T130000-20230501T190000
END:VEVENT
END:VCALENDAR