BEGIN:VCALENDAR
VERSION:2.0
PRODID:-//urwahl3000//gruene-erfurt.de//DE
CALSCALE:GREGORIAN
BEGIN:VEVENT
DTSTART:20240109T190000
DTEND:20240109T190000
LOCATION:Offene Arbeit Erfurt
DTSTAMP:20240109T190000
SUMMARY:Lesung „Klima im Kopf“
URL;VALUE=URI:https://gruene-erfurt.de/termin/lesung-klima-im-kopf/
UID:20240109T190000-20240109T190000-20240109T190000
END:VEVENT
END:VCALENDAR