BEGIN:VCALENDAR
VERSION:2.0
PRODID:-//urwahl3000//gruene-erfurt.de//DE
CALSCALE:GREGORIAN
BEGIN:VEVENT
DTSTART:20231128T190000
DTEND:20231128T210000
LOCATION:VEB Bandhaus Hugo John Strasse Erfurt
DTSTAMP:20231128T190000
SUMMARY:Mitgliederversammlung Direktmandate
URL;VALUE=URI:https://gruene-erfurt.de/termin/mitgliederversammlung-wahlprogramm/
UID:20231128T190000-20231128T190000-20231128T210000
END:VEVENT
END:VCALENDAR