BEGIN:VCALENDAR
VERSION:2.0
PRODID:-//urwahl3000//gruene-erfurt.de//DE
CALSCALE:GREGORIAN
BEGIN:VEVENT
DTSTART:20230509T190000
DTEND:20230509T210000
LOCATION:Michaelisstr. 15 Erfurt
DTSTAMP:20230509T190000
SUMMARY:Vorstandssitzung
URL;VALUE=URI:https://gruene-erfurt.de/termin/vorstandssitzung-7/
UID:20230509T190000-20230509T190000-20230509T210000
END:VEVENT
END:VCALENDAR